Workbook

Sheet Données Admin
D2: CAP Electricien
D4: Grilles nationales d'évaluation "mode CCF" des unités UP1 - UP2 - UP3
B6: Paramètres "A COMPLETER" | E6: L’ évaluation s’appuie sur des activités conduites en centre de formation et/ou en entreprise (en centre et en entreprise pour UP1). La période d’évaluation et ses modalités de mise en oeuvre relèvent de l’équipe pédagogique (enseignants du domaine professionnel et tuteur/maître d’apprentissage). Pour évaluer les candidats, la commission d'examen (équipe enseignante et un professionnel) s'appuie sur l’ensemble des ressources à sa disposition : questionnement, ressources numériques données au candidat, les productions du candidat et les bilans intérmédiaires de compétences "centre de formation" et "entreprise" conduits en première et deuxième année de formation. Ces bilans (d'une durée de 15 minutes maximum réalisé avec le candidat) sont capitalisés dans le livret de suivi d’acquisition des compétences et le portfolio « activités en entreprise ». Ils recensent le niveau d'acquisition des compétences mises en oeuvre dans le cadre des activités réalisées tant en centre de formation qu'en entreprise retenues pour l'évaluation (du niveau terminal attendu pour le CAP). L'évaluation pour une ou plusieurs des unités est réalisée par la commission d'examen lorsque le candidat a atteint le niveau exigé pour l'examen.
B8: Année scolaire | C8: 2019-20
B10: session | C10: 2020
B12: Prénom | C12: Prénom
B14: Nom | C14: Nom du candidat
B16: Date Naissance | C16: 01/01/2000
B18: N° candidat | C18: A2020 0000 0000
B20: Etablissement | C20: Nom étab de formation
B28: Consignes
B29: 1 - Remplir les zones bleues de la partie "Paramètres" ci-dessus.
B31: Dans chaque onglet du présent fichier, la commission d'examen (équipe enseignante + un professionnel associé) :
B33: 2 - Positionne le niveau de maîtrise de chaque compétence (par un "X" sur 1 des 4 niveaux) à partir des travaux
B34: réalisés par le candidat tant en centre de formation qu'en entreprise.
B35: Les critères d'évaluation sont indiqués " pour mémoire " uniquement.
B37: 3 - Saisit manuellement la note sur 20 qu'elle attribue au candidat dans la cellule jaune "…/20".
B39: 4 - Renseigne le nombre de situations formatives et le nombre de situations niveau CAP à partir de l'analyse
B40: du livret de suivi des acquisitions.
B42: 5 - Complète la zone "commentaires" destinés à éclairer le jury final sur la note obtenue.
B44: 6 - Complète la date et l'identité de ses membres.
B46: Le fichier est enregistré avec Nom et Prénom du candidat puis communiqué au centre de délibération sur un
... B50: conformément aux instructions académiques et en accord avec les instructions du chef de centre d'examen.

Sheet Niveau d'évaluation
D2: ='Données Admin'!D2 -> CAP Electricien
D4: Explication des niveaux d'évaluation des compétences
F5: Poids relatif du niveau de maîtrise d'une compétence
B6: N1 | D6: Compétence non acquise | F6: 0
D7: Niveau d'acquisition très insuffisant : le candidat ne peut pas travailler sans être très souvent accompagné et aidé.
B9: N2 | D9: Compétence "en cours d'acquisition" non stabilisée | F9: 0.333
D10: Niveau d'acquisition fragile qui nécessite un accompagnement régulier pour effectuer le travail confié.
B12: N3 | D12: Compétence "partiellement acquise" | F12: 0.66
D13: Niveau d'acquisition incomplet : le transfert de la compétence n'est pas total dans chaque situation de travail proposée, une aide est parfois requise notamment lors d'une situation de travail nouvelle.
B15: N4 | D15: Compétence totalement acquise et transférable | F15: 1
D16: Niveau d'acquisition complet : le candidat travaille en toute autonomie, il sait s'adapter et transférer la compétence dans toutes les situations sans aide.

Sheet UP1
B2: ='Données Admin'!D2 -> CAP Electricien | D2: UP1 : Réalisation d’une installation
C3: Evaluation mode CCF - session | E3: ='Données Admin'!C10 -> 2020
C4: Identité du candidat | E4: ='Données Admin'!C12 -> Prénom | G4: ='Données Admin'!C14 -> Nom du candidat
C5: N° candidat | E5: ='Données Admin'!C18 -> A2020 0000 0000
C6: Etablissement | E6: ='Données Admin'!C20 -> Nom étab de formation
C7: coefficient : 6 | E7: N1 | F7: N2 | G7: N3 | H7: N4
E8: ='[1]Description des 4 Niveaux'!D8 -> Compétence non acquise | F8: ='[1]Description des 4 Niveaux'!D11 -> Compétence en cours d'acquisition non stabilisée | G8: ='[1]Description des 4 Niveaux'!D14 -> Compétence partiellement aquise | H8: ='[1]Description des 4 Niveaux'!D17 -> Compétence totalement acquise et transférable
E9: 0 | F9: 1/3 | G9: 2/3 | H9: 3/3
D10: Positionner le niveau de maîtrise de la compétence
B11: 0.2 | C11: CO1 : Analyser les conditions de l’opération et son contexte | J11: =IF(E11="X",0,IF(F11="X",F12,IF(G11="X",G12,IF(H11="X",H12,0)))) -> 0 | K11: =IF(E11="X","",IF(F11="X","",IF(G11="X","",IF(H11="X",""," A COMPLETER")))) -> A COMPLETER
C12: 04/20 | E12: 0 | F12: =H12/3 -> 1.3333333 | G12: =H12*2/3 -> 2.6666667 | H12: 4
C13: Les informations nécessaires sont recueillies
C14: Les contraintes techniques et d’exécution sont repérées
C15: Les risques professionnels sont évalués
C16: Les mesures de prévention de santé et sécurité au travail sont proposées
C17: Les habilitations et certifications nécessaires à l’opération sont identifiées (habilitation B1V pour le niveau IV)
D19: Positionner le niveau de maîtrise de la compétence
B20: 0.2 | C20: CO2 : Organiser l’opération dans son contexte | J20: =IF(E20="X",0,IF(F20="X",F21,IF(G20="X",G21,IF(H20="X",H21,0)))) -> 0 | K20: =IF(E20="X","",IF(F20="X","",IF(G20="X","",IF(H20="X",""," A COMPLETER")))) -> A COMPLETER
C21: 4/20 | E21: 0 | F21: =H21/3 -> 1.3333333 | G21: =H21*2/3 -> 2.6666667 | H21: 4
C22: Après inventaire, les matériels, équipements et outillages manquants sont listés
C23: Les contraintes propres au poste de travail y compris environnementales sont prises en compte
C24: Les règles de santé et de sécurité au travail sont respectées
C25: Le poste de travail est organisé avec ergonomie
C26: Le poste de travail est approvisionné en matériels, équipements et outillages
C27: Le lieu d’activité est restitué quotidiennement propre et en ordre
D29: Positionner le niveau de maîtrise de la compétence
B30: 0.5 | C30: CO3 : Réaliser une installation de manière éco-responsable | J30: =IF(E30="X",0,IF(F30="X",F31,IF(G30="X",G31,IF(H30="X",H31,0)))) -> 0 | K30: =IF(E30="X","",IF(F30="X","",IF(G30="X","",IF(H30="X",""," A COMPLETER")))) -> A COMPLETER
C31: 10/20 | E31: 0 | F31: =H31/3 -> 3.3333333 | G31: =H31*2/3 -> 6.6666667 | H31: 10
C32: Les matériels sont posés conformément aux prescriptions et règles de l’art
C33: Le façonnage est réalisé conformément aux prescriptions et règles de l’art
C34: Les câblages et les raccordements sont réalisés conformément aux prescriptions et règles de l’art
C35: Les réalisations respectent les contraintes liées à l’efficacité énergétique
C36: Les autocontrôles sont réalisés et les fiches d’autocontrôles sont complétées
C37: Les déchets sont triés et évacués de manière sélective
C38: Le consommable est utilisé sans gaspillage
C39: Les règles de santé et de sécurité au travail sont respectées
C40: Les procédures de respect de l’environnement des lieux et des biens sont appliquées
D42: Positionner le niveau de maîtrise de la compétence
B43: 0.1 | C43: CO8 : Communiquer entre professionnels sur l’opération | J43: =IF(E43="X",0,IF(F43="X",F44,IF(G43="X",G44,IF(H43="X",H44,0)))) -> 0 | K43: =IF(E43="X","",IF(F43="X","",IF(G43="X","",IF(H43="X",""," A COMPLETER")))) -> A COMPLETER
C44: 2/20 | E44: 0 | F44: =H44/3 -> 0.66666667 | G44: =H44*2/3 -> 1.3333333 | H44: 2
C45: Les informations nécessaires à la communication (les contraintes des autres intervenants, les aléas rencontrés, les consignes de la hiérarchie, la préparation de la réunion de chantier …) sont identifiées
C46: Les contraintes techniques sont remontées à sa hiérarchie
C47: L’état d’avancement de l’opération est remonté à la hiérarchie
C48: Les difficultés sont remontées à la hiérarchie
C50: Note proposée au jury de délibération | E50: … | F50: /20 | G50: NOTE calculée | H50: =J11+J20+J30+J43 -> 0
C52: Nombre de situations formatives : | E52: Saisir le nombre
C53: Nombre de situations du niveau CAP : | E53: Saisir le nombre
C55: Commentaires destinés à éclairer le jury sur la proposition de note :
C56: Saisir ici les commentaires
C59: Prénom et nom des membres de la commission : | D59: Date : | E59: Saisir ici la date
C60: Saisir ici l'identité et fonction des membres de la commission

Sheet UP2
B2: ='Données Admin'!D2 -> CAP Electricien | D2: UP2 : Mise en service d'une installation
C3: Evaluation mode CCF - session | E3: ='Données Admin'!C10 -> 2020
C4: Identité du candidat | E4: ='Données Admin'!C12 -> Prénom | G4: ='Données Admin'!C14 -> Nom du candidat
C5: N° candidat | E5: ='Données Admin'!C18 -> A2020 0000 0000
C6: Etablissement | E6: ='Données Admin'!C20 -> Nom étab de formation
C7: coefficient : 4 | E7: N1 | F7: N2 | G7: N3 | H7: N4
E8: ='[1]Description des 4 Niveaux'!D8 -> Compétence non acquise | F8: ='[1]Description des 4 Niveaux'!D11 -> Compétence en cours d'acquisition non stabilisée | G8: ='[1]Description des 4 Niveaux'!D14 -> Compétence partiellement aquise | H8: ='[1]Description des 4 Niveaux'!D17 -> Compétence totalement acquise et transférable
E9: 0 | F9: 1/3 | G9: 2/3 | H9: 3/3
D10: Positionner le niveau de maîtrise de la compétence
B11: 0.4 | C11: CO4 : contrôler les grandeurs caractéristiques de l’installation | J11: =IF(E11="X",0,IF(F11="X",F12,IF(G11="X",G12,IF(H11="X",H12,0)))) -> 0 | K11: =IF(E11="X","",IF(F11="X","",IF(G11="X","",IF(H11="X",""," A COMPLETER")))) -> A COMPLETER
C12: 08/20 | E12: 0 | F12: =H12/3 -> 2.6666667 | G12: =H12*2/3 -> 5.3333333 | H12: 8
C13: Les contrôles (visuels, caractéristiques …) sont réalisés
C14: Les mesures (électriques, dimensionnelles, …) sont réalisées
C15: Les essais adaptés sont réalisés
C16: Les réglages sont réalisés conformément aux prescriptions sous la responsabilité d’un personnel de qualification supérieure
C17: Les fiches d’autocontrôles sont complétées
C18: Les règles de santé et de sécurité au travail sont respectées
D20: Positionner le niveau de maîtrise de la compétence
B21: 0.4 | C21: CO5 : valider le fonctionnement de l’installation | J21: =IF(E21="X",0,IF(F21="X",F22,IF(G21="X",G22,IF(H21="X",H22,0)))) -> 0 | K21: =IF(E21="X","",IF(F21="X","",IF(G21="X","",IF(H21="X",""," A COMPLETER")))) -> A COMPLETER
C22: 8/20 | E22: 0 | F22: =H22/3 -> 2.6666667 | G22: =H22*2/3 -> 5.3333333 | H22: 8
C23: Le fonctionnement est conforme aux spécifications du cahier des charges (y compris celles liées à l’efficacité énergétique)
C24: Les opérations nécessaires à la levée de réserves sont faites
C25: Les règles de santé et de sécurité au travail sont respectées
D27: Positionner le niveau de maîtrise de la compétence
B28: 0.2 | C28: CO7 : Exploiter les outils numériques dans le contexte professionnel | J28: =IF(E28="X",0,IF(F28="X",F29,IF(G28="X",G29,IF(H28="X",H29,0)))) -> 0 | K28: =IF(E28="X","",IF(F28="X","",IF(G28="X","",IF(H28="X",""," A COMPLETER")))) -> A COMPLETER
C29: 4/20 | E29: 0 | F29: =H29/3 -> 1.3333333 | G29: =H29*2/3 -> 2.6666667 | H29: 4
C30: La recherche d’information est faite avec pertinence
C31: Les moyens et outils de communication numériques sont exploités avec pertinence
C32: Les moyens et outils de communication sont exploités de manière éthique et responsable
C34: Note proposée au jury de délibération | E34: … | F34: /20 | G34: NOTE calculée | H34: =J11+J21+J28 -> 0
C36: Nombre de situations formatives : | E36: Saisir le nombre
C37: Nombre de situations du niveau CAP : | E37: Saisir le nombre
C39: Commentaires destinés à éclairer le jury sur la proposition de note :
C40: Saisir ici les commentaires
C44: Prénom et nom des membres de la commission : | D44: Date : | E44: Saisir ici la date
C45: Saisir ici l'identité et fonction des membres de la commission

Sheet UP3
B2: ='Données Admin'!D2 -> CAP Electricien | D2: UP3 : Maintenance d'une installation
C3: Evaluation mode CCF - session | E3: ='Données Admin'!C10 -> 2020
C4: Identité du candidat | E4: ='Données Admin'!C12 -> Prénom | G4: ='Données Admin'!C14 -> Nom du candidat
C5: N° candidat | E5: ='Données Admin'!C18 -> A2020 0000 0000
C6: Etablissement | E6: ='Données Admin'!C20 -> Nom étab de formation
C7: coefficient : 2 | E7: N1 | F7: N2 | G7: N3 | H7: N4
E8: ='[1]Description des 4 Niveaux'!D8 -> Compétence non acquise | F8: ='[1]Description des 4 Niveaux'!D11 -> Compétence en cours d'acquisition non stabilisée | G8: ='[1]Description des 4 Niveaux'!D14 -> Compétence partiellement aquise | H8: ='[1]Description des 4 Niveaux'!D17 -> Compétence totalement acquise et transférable
E9: 0 | F9: 1/3 | G9: 2/3 | H9: 3/3
D10: Positionner le niveau de maîtrise de la compétence
B11: 0.7 | C11: CO6 : Remplacer un matériel électrique | J11: =IF(E11="X",0,IF(F11="X",F12,IF(G11="X",G12,IF(H11="X",H12,0)))) -> 0 | K11: =IF(E11="X","",IF(F11="X","",IF(G11="X","",IF(H11="X",""," A COMPLETER")))) -> A COMPLETER
C12: 14/20 | E12: 0 | F12: =H12/3 -> 4.6666667 | G12: =H12*2/3 -> 9.3333333 | H12: 14
C13: Les informations nécessaires sont recueillies
C14: Les contraintes techniques et d’exécution sont repérées
C15: Le matériel électrique à remplacer est identifié
C16: Le matériel électrique à remplacer est correctement déposé
C17: Le matériel électrique de remplacement est correctement installé
C18: Les fiches d’autocontrôles sont complétées
C19: Le carnet de maintenance est complété
C20: Le fonctionnement est vérifié après rétablissement des énergies
C21: Les règles de santé et de sécurité au travail sont respectées
C22: Le lieu d’activité est restitué propre et en ordre
D24: Positionner le niveau de maîtrise de la compétence
B25: 0.3 | C25: CO9 : Communiquer avec le client/usager sur l’opération | J25: =IF(E25="X",0,IF(F25="X",F26,IF(G25="X",G26,IF(H25="X",H26,0)))) -> 0 | K25: =IF(E25="X","",IF(F25="X","",IF(G25="X","",IF(H25="X",""," A COMPLETER")))) -> A COMPLETER
C26: 6/20 | E26: 0 | F26: =H26/3 -> 2 | G26: =H26*2/3 -> 4 | H26: 6
C27: Les usages et le fonctionnement de l’installation sont maîtrisés par le client/l’usager
C28: L’état d’avancement de l’opération et ses contraintes sont expliqués
C29: Le fonctionnement de l’installation est expliqué
C31: Note proposée au jury de délibération | E31: … | F31: /20 | G31: NOTE calculée | H31: =J11+J25 -> 0
C33: Nombre de situations formatives : | E33: Saisir le nombre
C34: Nombre de situations du niveau CAP : | E34: Saisir le nombre
C36: Commentaires destinés à éclairer le jury sur la proposition de note :
C37: Saisir ici les commentaires
C41: Prénom et nom des membres de la commission : | D41: Date : | E41: Saisir ici la date
C42: Saisir ici l'identité et fonction des membres de la commission

Sheet Récap
B2: ='Données Admin'!D2 -> CAP Electricien | D2: Proposition de notes
C3: Evaluation mode CCF - session | E3: ='Données Admin'!C10 -> 2020
C4: Identité du candidat | E4: ='Données Admin'!C12 -> Prénom | G4: ='Données Admin'!C14 -> Nom du candidat
C5: N° candidat | E5: ='Données Admin'!C18 -> A2020 0000 0000
C6: Etablissement | E6: ='Données Admin'!C20 -> Nom étab de formation
B11: Note proposée | D11: UP1 | F11: ='UP1'!E50 -> … | G11: /20
B13: Note proposée | D13: UP2 | F13: ='UP2'!E34 -> … | G13: /20
B15: Note proposée | D15: UP3 | F15: ='UP3'!E31 -> … | G15: /20
